BEGIN:VCALENDAR
VERSION:2.0
PRODID:-//Visit Valentine - ECPv6.15.20//NONSGML v1.0//EN
CALSCALE:GREGORIAN
METHOD:PUBLISH
X-ORIGINAL-URL:https://visitvalentine.org
X-WR-CALDESC:Events for Visit Valentine
REFRESH-INTERVAL;VALUE=DURATION:PT1H
X-Robots-Tag:noindex
X-PUBLISHED-TTL:PT1H
BEGIN:VTIMEZONE
TZID:America/Chicago
BEGIN:DAYLIGHT
TZOFFSETFROM:-0600
TZOFFSETTO:-0500
TZNAME:CDT
DTSTART:20250309T080000
END:DAYLIGHT
BEGIN:STANDARD
TZOFFSETFROM:-0500
TZOFFSETTO:-0600
TZNAME:CST
DTSTART:20251102T070000
END:STANDARD
BEGIN:DAYLIGHT
TZOFFSETFROM:-0600
TZOFFSETTO:-0500
TZNAME:CDT
DTSTART:20260308T080000
END:DAYLIGHT
BEGIN:STANDARD
TZOFFSETFROM:-0500
TZOFFSETTO:-0600
TZNAME:CST
DTSTART:20261101T070000
END:STANDARD
BEGIN:DAYLIGHT
TZOFFSETFROM:-0600
TZOFFSETTO:-0500
TZNAME:CDT
DTSTART:20270314T080000
END:DAYLIGHT
BEGIN:STANDARD
TZOFFSETFROM:-0500
TZOFFSETTO:-0600
TZNAME:CST
DTSTART:20271107T070000
END:STANDARD
END:VTIMEZONE
BEGIN:VEVENT
DTSTART;VALUE=DATE:20260606
DTEND;VALUE=DATE:20260607
DTSTAMP:20260422T103717
CREATED:20200929T150936Z
LAST-MODIFIED:20260128T201528Z
UID:1822-1780704000-1780790399@visitvalentine.org
SUMMARY:Sandhills Marathon
DESCRIPTION:The Sandhills Marathon begins near the west end of the Brownlee Road\, where it meets Highway 97\, between Mullen and Valentine. The Road\, a one-lane blacktop\, winds southeast through the Wamaduze Valley until it reaches the town of Brownlee (unincorporated)\, then runs east along the north bank of the North Loup River. The course finishes on Highway 83\, between Thedford and Valentine.* \nThe Half Marathon will begin at the half-way point about the time the full marathoners are reaching that point. The courses are mainly flat with the road traveling through valleys between rolling Sandhills on either side. There are a few hills\, but only a couple that are substantial.* \nLimited transportation will be provided to and from the course. \n*Course direction for both races subject to reversal depending on weather conditions. \nPlease visit the sign up website for registration information and times. \n 
URL:https://visitvalentine.org/event/sandhills-marathon/
LOCATION:Brownlee Road
ATTACH;FMTTYPE=image/png:https://visitvalentine.org/wp-content/uploads/2020/09/sandhill-marathon-logo.png
END:VEVENT
BEGIN:VEVENT
DTSTART;VALUE=DATE:20260613
DTEND;VALUE=DATE:20260614
DTSTAMP:20260422T103717
CREATED:20240411T093906Z
LAST-MODIFIED:20260128T203041Z
UID:3801-1781308800-1781395199@visitvalentine.org
SUMMARY:Valentine Chamber Golf Tournament
DESCRIPTION:More details when event gets closer\n– Mark Your Calendar –\n\nEnjoy a beautiful and competitive day of golf for one of the Chamber’s biggest fund raisers of the year!\n\n\n\n\nAgenda & Location – Flight #1   (Saturday\, June 13th)\n\n\n\n\n\n9:00 AM   Registration\n\n\n10:00 AM   Playing starts\n\n\n3:00 PM   Awards\n\n\n\n\nFrederick Peak Golf Club\n1000 Dowden St.\nValentine\, NE 69201\n(402) 322-2754
URL:https://visitvalentine.org/event/valentine-chamber-golf-tournament/
LOCATION:Frederick Peak Golf Course\, 1000 Dowden St.\, Valentine\, NE\, 69201
ATTACH;FMTTYPE=image/jpeg:https://visitvalentine.org/wp-content/uploads/2021/11/Golf-Reel.mp4_Moment-2.jpg
END:VEVENT
END:VCALENDAR