BEGIN:VCALENDAR
VERSION:2.0
PRODID:-//Visit Valentine - ECPv6.15.20//NONSGML v1.0//EN
CALSCALE:GREGORIAN
METHOD:PUBLISH
X-WR-CALNAME:Visit Valentine
X-ORIGINAL-URL:https://visitvalentine.org
X-WR-CALDESC:Events for Visit Valentine
REFRESH-INTERVAL;VALUE=DURATION:PT1H
X-Robots-Tag:noindex
X-PUBLISHED-TTL:PT1H
BEGIN:VTIMEZONE
TZID:America/Chicago
BEGIN:DAYLIGHT
TZOFFSETFROM:-0600
TZOFFSETTO:-0500
TZNAME:CDT
DTSTART:20250309T080000
END:DAYLIGHT
BEGIN:STANDARD
TZOFFSETFROM:-0500
TZOFFSETTO:-0600
TZNAME:CST
DTSTART:20251102T070000
END:STANDARD
BEGIN:DAYLIGHT
TZOFFSETFROM:-0600
TZOFFSETTO:-0500
TZNAME:CDT
DTSTART:20260308T080000
END:DAYLIGHT
BEGIN:STANDARD
TZOFFSETFROM:-0500
TZOFFSETTO:-0600
TZNAME:CST
DTSTART:20261101T070000
END:STANDARD
BEGIN:DAYLIGHT
TZOFFSETFROM:-0600
TZOFFSETTO:-0500
TZNAME:CDT
DTSTART:20270314T080000
END:DAYLIGHT
BEGIN:STANDARD
TZOFFSETFROM:-0500
TZOFFSETTO:-0600
TZNAME:CST
DTSTART:20271107T070000
END:STANDARD
END:VTIMEZONE
BEGIN:VEVENT
DTSTART;TZID=America/Chicago:20260206T183000
DTEND;TZID=America/Chicago:20260206T210000
DTSTAMP:20260422T103600
CREATED:20260128T200028Z
LAST-MODIFIED:20260128T200405Z
UID:4330-1770402600-1770411600@visitvalentine.org
SUMMARY:Galentine's in Valentine @ Broken Spoke Boutique
DESCRIPTION:Broken Spoke Boutique – Valentine \n205 N. Main St. \n6 pm-9pm
URL:https://visitvalentine.org/event/galentines-day-broken-spoke-boutique-in-valentine/
ATTACH;FMTTYPE=image/jpeg:https://visitvalentine.org/wp-content/uploads/2026/01/1000020615.jpg
END:VEVENT
BEGIN:VEVENT
DTSTART;VALUE=DATE:20260214
DTEND;VALUE=DATE:20260215
DTSTAMP:20260422T103600
CREATED:20200122T152740Z
LAST-MODIFIED:20260128T180355Z
UID:324-1771027200-1771113599@visitvalentine.org
SUMMARY:Heart City Bull Bash
DESCRIPTION:25th Annual\nHeart City Bull Bash\nFebruary 14\,2026\nOn Valentine’s Main Street\nBulls – Exhibits – Wine Tasting – Quilt Show \nTrick Roper – 4-H Luck of the Draw – 5K Race \nDummy Roping – In Store Special \n\n\n\n\n\n\n\n\n\n\n\n\n\n\n\n\n\n\n\n\n\n\n\n\n\n\n\n\n\n\n\n\n\n\n\n\n\n\n\n\n\n\n\n\n\n\n\n\n\n\n\n\n\n\n\n\n25th Annual \n\n\nHeart City Bull Bash\n\n\nMain Street\, Valentine\, Nebraska \n\n\nFebruary 14\, 2026 \n\nEXHIBITORS\nSPONSORS\nOTHER EVENTS\n\n\n\n\n\n2026 Bull Exhibitors\n\n\nThese are the bull exhibitors slated to be shown on Main Street. Be sure to attend and check out all of the fine bull power on display. \n​ \n\n\n\n\n\n\n\n\n\n\n\n\n\n\n\n\n\n\n\n\n\n\n\n\n\n\n\n\n\n\n\n\n\n\n\n\n\n\n\n\n\n\n\n\n\n\n\n\n\n\n\n\n\n\n\n\n\n\n\n\n\n\n\n\n\n\n\n\n\n\n\n\n\n\n\n\n\n\n\n\n\n\n\n\n\n\n\n\n\n\n\n\n\n\n\n\n\n\n\n\n\n\n\n\n\n\n\n\n\n\n\n\n\n\n\n\n\n\n\n\n\n\n\n\n\n\n\n\n\n\n\n\n\n\n\n\n\n\n\n\n\n\n\n\n\n\n\n\n\n\n\n\n\n\n\n\n\n\n\n\n\n\n\n\n\n\n\n\n\n\n\n\n\n\n\n\n\n\n\n\n\n\n\n\n\n\n\n\n\n\n\n\n\n\n\n\n\n\n\n\n\n\n\n\n\n\n\n\n\n\n\n\n\n\n\n\n\n\n\n\n\n\n\n\n\n\n\n\n\n\n\n\n\n\n\n\n\n\n\n\n\n\n\n\n\n\n\n\n\n\n\n\n\n\n\n\n\n\n\n\n  \n\n\n\n\n\n\n\n\n\n\n\n\n\n\n\n\n2026 Commercial Exhibitors\n\n\nWe have a variety of equipment dealers\, feed and mineral providers\, and other ranching services ready to talk to you about your needs. \n\n\n\n\n\n\n\n\n\n\n\n\n\n\n\n\n\n\n\n\n\n\n\n\n\n\n\n\n\n\n\n\n\n\n\n\n\n\n\n\n\n\n\n\n\n\n\n\n\n\n\n\n\n\n\n\n\n\n\n\n\n\n\n\n\n\n\n\n\n\n\n\n\n\n\n\n\n\n\n\n\n\n\n\n\n\n\n\n\n\n\n\n\n\n\n\n\n\n\n\n\n\n\n\n\n\n\n\n\n\n\n\n\n\n\n\n\n\n\n\n\n\n\n\n\n\n\n\n\n\n\n\n\n\n\n\n\n\n\n\n\n\n\n\n\n\n\n\n\n\n\n\n\n\n\n\n\n\n\n\n\n\n\n\n\n\n\n\n\n\n\n\n\n\n\n\n\n\n\n\n\n\n\n2026 Heifer Exhibitors\n\n\nThere are no heifers to exhibit on Main Street this year. \n​
URL:https://visitvalentine.org/event/heart-city-bull-bash/
LOCATION:Valentine\, NE\, Valentine
ATTACH;FMTTYPE=image/jpeg:https://visitvalentine.org/wp-content/uploads/2020/02/Capture.jpg
END:VEVENT
END:VCALENDAR