BEGIN:VCALENDAR
VERSION:2.0
PRODID:-//Visit Valentine - ECPv6.15.20//NONSGML v1.0//EN
CALSCALE:GREGORIAN
METHOD:PUBLISH
X-WR-CALNAME:Visit Valentine
X-ORIGINAL-URL:https://visitvalentine.org
X-WR-CALDESC:Events for Visit Valentine
REFRESH-INTERVAL;VALUE=DURATION:PT1H
X-Robots-Tag:noindex
X-PUBLISHED-TTL:PT1H
BEGIN:VTIMEZONE
TZID:America/Chicago
BEGIN:DAYLIGHT
TZOFFSETFROM:-0600
TZOFFSETTO:-0500
TZNAME:CDT
DTSTART:20240310T080000
END:DAYLIGHT
BEGIN:STANDARD
TZOFFSETFROM:-0500
TZOFFSETTO:-0600
TZNAME:CST
DTSTART:20241103T070000
END:STANDARD
BEGIN:DAYLIGHT
TZOFFSETFROM:-0600
TZOFFSETTO:-0500
TZNAME:CDT
DTSTART:20250309T080000
END:DAYLIGHT
BEGIN:STANDARD
TZOFFSETFROM:-0500
TZOFFSETTO:-0600
TZNAME:CST
DTSTART:20251102T070000
END:STANDARD
BEGIN:DAYLIGHT
TZOFFSETFROM:-0600
TZOFFSETTO:-0500
TZNAME:CDT
DTSTART:20260308T080000
END:DAYLIGHT
BEGIN:STANDARD
TZOFFSETFROM:-0500
TZOFFSETTO:-0600
TZNAME:CST
DTSTART:20261101T070000
END:STANDARD
END:VTIMEZONE
BEGIN:VEVENT
DTSTART;TZID=America/Chicago:20251122T180000
DTEND;TZID=America/Chicago:20251123T180000
DTSTAMP:20260422T142923
CREATED:20211109T230717Z
LAST-MODIFIED:20250722T203132Z
UID:2859-1763834400-1763920800@visitvalentine.org
SUMMARY:Valentine Parade of Lights & Heart of Christmas Celebration
DESCRIPTION:Lots to see and do in Valentine when you shop local this Christmas! \n  \nParade of Lights will be down Green Street in Valentine. \nGather at the Fairgrounds 4-H building  after the parade: \n~ Enjoy a smores and a food bar \n~ Visit with Santa Claus \n~ Best Christmas sweater contest \n~ Christmas tree contest \nCheck out their Facebook page for more details!
URL:https://visitvalentine.org/event/valentine-parade-of-lights-heart-of-christmas-celebration/
LOCATION:Cherry County Fairgrounds\, 120 S. Green Street\, Valentine\, NE\, 69201\, United States
ATTACH;FMTTYPE=image/png:https://visitvalentine.org/wp-content/uploads/2021/11/11149402_371137443079015_530379723033015625_n.png
END:VEVENT
END:VCALENDAR