BEGIN:VCALENDAR
VERSION:2.0
PRODID:-//Visit Valentine - ECPv6.15.20//NONSGML v1.0//EN
CALSCALE:GREGORIAN
METHOD:PUBLISH
X-ORIGINAL-URL:https://visitvalentine.org
X-WR-CALDESC:Events for Visit Valentine
REFRESH-INTERVAL;VALUE=DURATION:PT1H
X-Robots-Tag:noindex
X-PUBLISHED-TTL:PT1H
BEGIN:VTIMEZONE
TZID:America/Chicago
BEGIN:DAYLIGHT
TZOFFSETFROM:-0600
TZOFFSETTO:-0500
TZNAME:CDT
DTSTART:20240310T080000
END:DAYLIGHT
BEGIN:STANDARD
TZOFFSETFROM:-0500
TZOFFSETTO:-0600
TZNAME:CST
DTSTART:20241103T070000
END:STANDARD
BEGIN:DAYLIGHT
TZOFFSETFROM:-0600
TZOFFSETTO:-0500
TZNAME:CDT
DTSTART:20250309T080000
END:DAYLIGHT
BEGIN:STANDARD
TZOFFSETFROM:-0500
TZOFFSETTO:-0600
TZNAME:CST
DTSTART:20251102T070000
END:STANDARD
BEGIN:DAYLIGHT
TZOFFSETFROM:-0600
TZOFFSETTO:-0500
TZNAME:CDT
DTSTART:20260308T080000
END:DAYLIGHT
BEGIN:STANDARD
TZOFFSETFROM:-0500
TZOFFSETTO:-0600
TZNAME:CST
DTSTART:20261101T070000
END:STANDARD
END:VTIMEZONE
BEGIN:VEVENT
DTSTART;TZID=America/Chicago:20251011T100000
DTEND;TZID=America/Chicago:20251011T160000
DTSTAMP:20260422T155227
CREATED:20200929T154647Z
LAST-MODIFIED:20250722T202711Z
UID:1826-1760176800-1760198400@visitvalentine.org
SUMMARY:Pumpkin Patch Craft Fair
DESCRIPTION:Saturday Oct 11th! Is the day!!\n\n\nFall is in the air!\nThe Pumpkin Patch Craft Fair is almost here! Come and enjoy this long-awaited event.\nWe have very talented crafters from the area bringing one-of-a-kind crafts!!\n\n\n\n10 a.m. to 4 p.m.\n\n\nWith crafts\, food and fun\, this event is sure to bring plenty of Autumn Joy!!
URL:https://visitvalentine.org/event/1826/
LOCATION:St. Nicholas Catholic Parish Hall\, 400 W. 5th St\, Valentine\, NE\, 69201\, United States
ATTACH;FMTTYPE=image/webp:https://visitvalentine.org/wp-content/uploads/2020/09/5d8f88fe5cb56.webp
END:VEVENT
BEGIN:VEVENT
DTSTART;TZID=America/Chicago:20251030T170000
DTEND;TZID=America/Chicago:20251030T220000
DTSTAMP:20260422T155227
CREATED:20200929T202616Z
LAST-MODIFIED:20250728T193301Z
UID:1836-1761843600-1761861600@visitvalentine.org
SUMMARY:Moonlight Madness
DESCRIPTION:Spooktacular Savings up and down Main Street – Valentine\, NE \nStores will be open Late – 5pm – 10pm
URL:https://visitvalentine.org/event/moonlight-madness/
LOCATION:Valentine\, NE\, Valentine
ATTACH;FMTTYPE=image/jpeg:https://visitvalentine.org/wp-content/uploads/2020/09/moonlight-madness.jpg
END:VEVENT
BEGIN:VEVENT
DTSTART;TZID=America/Chicago:20251031T160000
DTEND;TZID=America/Chicago:20251031T170000
DTSTAMP:20260422T155227
CREATED:20240926T183527Z
LAST-MODIFIED:20250722T202848Z
UID:3994-1761926400-1761930000@visitvalentine.org
SUMMARY:Halloween Kiddie Parade and Scare in the Square!
DESCRIPTION:This is a fun Halloween tradition. \nGet your scare on and meet on Main Street and 1st in Valentine! Oct 31st @ 4:00 \nThank you to all of the businesses that support this fun afternoon for the kiddos! \n 
URL:https://visitvalentine.org/event/halloween-kiddie-parade-and-scare-in-the-square/
LOCATION:Valentine\, NE\, Valentine
ATTACH;FMTTYPE=image/jpeg:https://visitvalentine.org/wp-content/uploads/2024/09/20211029_160038-scaled.jpg
END:VEVENT
END:VCALENDAR