BEGIN:VCALENDAR
VERSION:2.0
PRODID:-//Visit Valentine - ECPv6.15.20//NONSGML v1.0//EN
CALSCALE:GREGORIAN
METHOD:PUBLISH
X-WR-CALNAME:Visit Valentine
X-ORIGINAL-URL:https://visitvalentine.org
X-WR-CALDESC:Events for Visit Valentine
REFRESH-INTERVAL;VALUE=DURATION:PT1H
X-Robots-Tag:noindex
X-PUBLISHED-TTL:PT1H
BEGIN:VTIMEZONE
TZID:America/Chicago
BEGIN:DAYLIGHT
TZOFFSETFROM:-0600
TZOFFSETTO:-0500
TZNAME:CDT
DTSTART:20190310T080000
END:DAYLIGHT
BEGIN:STANDARD
TZOFFSETFROM:-0500
TZOFFSETTO:-0600
TZNAME:CST
DTSTART:20191103T070000
END:STANDARD
BEGIN:DAYLIGHT
TZOFFSETFROM:-0600
TZOFFSETTO:-0500
TZNAME:CDT
DTSTART:20200308T080000
END:DAYLIGHT
BEGIN:STANDARD
TZOFFSETFROM:-0500
TZOFFSETTO:-0600
TZNAME:CST
DTSTART:20201101T070000
END:STANDARD
BEGIN:DAYLIGHT
TZOFFSETFROM:-0600
TZOFFSETTO:-0500
TZNAME:CDT
DTSTART:20210314T080000
END:DAYLIGHT
BEGIN:STANDARD
TZOFFSETFROM:-0500
TZOFFSETTO:-0600
TZNAME:CST
DTSTART:20211107T070000
END:STANDARD
END:VTIMEZONE
BEGIN:VEVENT
DTSTART;TZID=America/Chicago:20200703T080000
DTEND;TZID=America/Chicago:20200703T170000
DTSTAMP:20260422T235110
CREATED:20200619T180437Z
LAST-MODIFIED:20200619T180437Z
UID:1639-1593763200-1593795600@visitvalentine.org
SUMMARY:Tractor Pull - (Canceled)
DESCRIPTION:Tractor Pull is canceled \nMOTOR MAYHEM WEEKEND \n5TH ANNUAL HEARTLAND \nSERIES TRACTOR PULL\nJULY 3RD \n CANCELED
URL:https://visitvalentine.org/event/tractor-pull-canceled/
LOCATION:NE
ATTACH;FMTTYPE=image/jpeg:https://visitvalentine.org/wp-content/uploads/2020/03/tractor-pull.jpg
END:VEVENT
BEGIN:VEVENT
DTSTART;TZID=America/Chicago:20200209T170000
DTEND;TZID=America/Chicago:20200209T200000
DTSTAMP:20260422T235110
CREATED:20200122T152850Z
LAST-MODIFIED:20200122T152850Z
UID:326-1581267600-1581278400@visitvalentine.org
SUMMARY:Coronation
DESCRIPTION:
URL:https://visitvalentine.org/event/coronation/
LOCATION:NE
END:VEVENT
END:VCALENDAR