BEGIN:VCALENDAR
VERSION:2.0
PRODID:-//Visit Valentine - ECPv6.15.20//NONSGML v1.0//EN
CALSCALE:GREGORIAN
METHOD:PUBLISH
X-WR-CALNAME:Visit Valentine
X-ORIGINAL-URL:https://visitvalentine.org
X-WR-CALDESC:Events for Visit Valentine
REFRESH-INTERVAL;VALUE=DURATION:PT1H
X-Robots-Tag:noindex
X-PUBLISHED-TTL:PT1H
BEGIN:VTIMEZONE
TZID:America/Chicago
BEGIN:DAYLIGHT
TZOFFSETFROM:-0600
TZOFFSETTO:-0500
TZNAME:CDT
DTSTART:20190310T080000
END:DAYLIGHT
BEGIN:STANDARD
TZOFFSETFROM:-0500
TZOFFSETTO:-0600
TZNAME:CST
DTSTART:20191103T070000
END:STANDARD
BEGIN:DAYLIGHT
TZOFFSETFROM:-0600
TZOFFSETTO:-0500
TZNAME:CDT
DTSTART:20200308T080000
END:DAYLIGHT
BEGIN:STANDARD
TZOFFSETFROM:-0500
TZOFFSETTO:-0600
TZNAME:CST
DTSTART:20201101T070000
END:STANDARD
BEGIN:DAYLIGHT
TZOFFSETFROM:-0600
TZOFFSETTO:-0500
TZNAME:CDT
DTSTART:20210314T080000
END:DAYLIGHT
BEGIN:STANDARD
TZOFFSETFROM:-0500
TZOFFSETTO:-0600
TZNAME:CST
DTSTART:20211107T070000
END:STANDARD
BEGIN:DAYLIGHT
TZOFFSETFROM:-0600
TZOFFSETTO:-0500
TZNAME:CDT
DTSTART:20220313T080000
END:DAYLIGHT
BEGIN:STANDARD
TZOFFSETFROM:-0500
TZOFFSETTO:-0600
TZNAME:CST
DTSTART:20221106T070000
END:STANDARD
END:VTIMEZONE
BEGIN:VEVENT
DTSTART;TZID=America/Chicago:20211002T100000
DTEND;TZID=America/Chicago:20211002T170000
DTSTAMP:20260422T210055
CREATED:20210927T152833Z
LAST-MODIFIED:20210927T154055Z
UID:2770-1633168800-1633194000@visitvalentine.org
SUMMARY:Show -N- Dyno Day
DESCRIPTION:The Valentine Classic Motor Club invites you! \nFree Viewing to the public
URL:https://visitvalentine.org/event/2770/
LOCATION:Pitt Stall Tire Pros\, 221 W. Hwy 20\, Valentine\, Nebraska\, 69201
ATTACH;FMTTYPE=image/jpeg:https://visitvalentine.org/wp-content/uploads/2021/09/20210927_102100.jpg
END:VEVENT
BEGIN:VEVENT
DTSTART;VALUE=DATE:20211002
DTEND;VALUE=DATE:20211004
DTSTAMP:20260422T210055
CREATED:20210402T145240Z
LAST-MODIFIED:20210402T145240Z
UID:2341-1633132800-1633305599@visitvalentine.org
SUMMARY:Nebraska Walleye Association - Merritt Reservoir Championship
DESCRIPTION:Nebraska Walleye Association- NWA\nMERRITT NWA CHAMPIONSHIP OCTOBER 2/3\nTwo day Championship tournament. $300 per two person team \nThe Championship will be 100% payback. \nOnly NWA members with Top Gun Points and who have fished at least three of five qualifying events may fish the 2021 Championship.
URL:https://visitvalentine.org/event/nebraska-walleye-association-merritt-reservoir-championship/
LOCATION:Merritt Reservoir\, 28 mi. south of Valentine\, Valentine\, NE\, 69201\, United States
ATTACH;FMTTYPE=image/jpeg:https://visitvalentine.org/wp-content/uploads/2021/04/walleye4-to-print-2_16_21.jpeg
END:VEVENT
BEGIN:VEVENT
DTSTART;VALUE=DATE:20210920
DTEND;VALUE=DATE:20210922
DTSTAMP:20260422T210055
CREATED:20210611T210952Z
LAST-MODIFIED:20210611T210952Z
UID:2397-1632096000-1632268799@visitvalentine.org
SUMMARY:Sandhills Cattle Association 82nd Annual Convention & Trade Show
DESCRIPTION:September 20\n10 am – Shotgun start for Sandhills Golf Classic @ Frederick’s Peak\nAll Day – Sandhills Cattle Association Cookoff Contest @ Cherry Co Fairgrounds\n5 pm – Join us for Beer & Wine Tasting\, Cookoff Contest Judging & a relaxing evening with game and Millar Time Productions as DJing.\n\nSeptember 21\n9 am – Registration opens for the 82nd Annual Convention & Trade Show @ Cherry Co Fairgrounds\nSpeakers all day starting at 10 am\, including Sustainable Beef LLC\, Derrell Peel with OK State University & evening entertainment with Brent Reed\, the Heavyweight of Clean Comedy\n All Day – Pen of Three Bred Heifer Show & Bull Pens available for viewing\n5:45 pm -Benefit Auction
URL:https://visitvalentine.org/event/sandhills-cattle-association-82nd-annual-convention-trade-show/
LOCATION:Cherry County Fairgrounds\, 120 S. Green Street\, Valentine\, NE\, 69201\, United States
ATTACH;FMTTYPE=image/gif:https://visitvalentine.org/wp-content/uploads/2021/06/black-transparent-background.gif
ORGANIZER;CN="Sandhills Cattle Association":MAILTO:sca@sandhillscattle.com
END:VEVENT
BEGIN:VEVENT
DTSTART;TZID=America/Chicago:20210724T180000
DTEND;TZID=America/Chicago:20210724T200000
DTSTAMP:20260422T210055
CREATED:20210712T152003Z
LAST-MODIFIED:20210712T152129Z
UID:2507-1627149600-1627156800@visitvalentine.org
SUMMARY:VAAC - The String Beans - Children's Concert
DESCRIPTION:Presented by the Valentine Area Arts Council – \nFamily Friendly – \nFree Will Donation – \nJuly 24th 6:00 – Valentine
URL:https://visitvalentine.org/event/the-string-beans-childrens-concert/
LOCATION:Valentine High School Auditorium
ATTACH;FMTTYPE=image/jpeg:https://visitvalentine.org/wp-content/uploads/2021/07/string-beans-scaled.jpg
ORGANIZER;CN="Valentine Area Arts Council":MAILTO:director@valentineareaartscouncil.com
END:VEVENT
BEGIN:VEVENT
DTSTART;TZID=America/Chicago:20210619T180000
DTEND;TZID=America/Chicago:20210619T233000
DTSTAMP:20260422T210055
CREATED:20210330T190607Z
LAST-MODIFIED:20210330T190607Z
UID:2339-1624125600-1624145400@visitvalentine.org
SUMMARY:Sod House Saturday Night
DESCRIPTION:A Saturday evening of BBQ and Dancing at the Arthur Bowring Ranch in Merriman\, NE
URL:https://visitvalentine.org/event/sod-house-saturday-night/
END:VEVENT
BEGIN:VEVENT
DTSTART;TZID=America/Chicago:20210618T190000
DTEND;TZID=America/Chicago:20210618T210000
DTSTAMP:20260422T210055
CREATED:20210611T220753Z
LAST-MODIFIED:20210611T220753Z
UID:2407-1624042800-1624050000@visitvalentine.org
SUMMARY:Missoula Children's Theatre - Red Riding Hood
DESCRIPTION:The audition for Missoula Children’s Theatre is a little different this year due to Covid regulations. Pre-registration is required before the auditions. Once registration is full we can no longer accept any more. Auditions are limited to 60 spots. The earlier you register\, the more likely you are to secure a spot. Registration is open for kids going into first grade through twelfth grade. Everyone who secures a spot will still have auditions\, June 14th from 10 AM to noon. MCT rules require that all cast members\, participants\, and audience members must wear masks. Cast members will rehearse various times\, Monday\, June 14 through Friday\, 10 AM to 2:30 PM with the performance Friday June 18th\, at 7pm. You must be able to attend all rehearsals. Please register by using this Google Form on facebook. \n 
URL:https://visitvalentine.org/event/missoula-childrens-theatre-red-riding-hood/
LOCATION:Valentine High School Auditorium
ATTACH;FMTTYPE=image/png:https://visitvalentine.org/wp-content/uploads/2021/06/M_Childrens_Color.png
ORGANIZER;CN="Valentine Area Arts Council":MAILTO:director@valentineareaartscouncil.com
END:VEVENT
BEGIN:VEVENT
DTSTART;TZID=America/Chicago:20210504T110000
DTEND;TZID=America/Chicago:20210504T150000
DTSTAMP:20260422T210055
CREATED:20210413T142750Z
LAST-MODIFIED:20210413T143323Z
UID:2357-1620126000-1620140400@visitvalentine.org
SUMMARY:FREE TELEVISION & ELECTRONIC RECYCLING EVENT
DESCRIPTION:It’s time the dangerous lead in your old television set entered The Twilight Zone. Recycle your old CRT (Cathode Ray Tubes) TVs\, CRT monitors\, and other electronics properly with FREE* recycling at a CRT Amnesty event happening near you! \n* We are able to accept up to two (2) CRT TVs or computer monitors\, or a combination thereof free of charge per participant per event. Additional TVs and CRTs will have a flat fee of $25 each. \nPlease share. We will have a semi in Valentine and one in O’Neill so we can collect ALOT!!! \n\n\nValentine Tuesday | May 4th\, 2021 | 11am-3pm  MNNRD Parking Lot – 303 E Hwy 20\, Valentine\n\nO’Neill  Tuesday | May 11th | 11am-3pm  501 S 4th St\, O’Neill Community Center\n\n*For restrictions and event details visit  RecycleYourOldTV.org or call (402) 340-2774.\n\n———– Other Communities ——— \nStuart Saturday\, May 8th noon to 4. Stuart Recycling Center \nSpencer Friday\, April 30th and Saturday\, May 1st.   Lion’s Club Park   Tracy Goesch \nSpringview Tuesday\, May 4th 9-10:30  Turbine Mart  Bill Barnes \nCody      To be determined      Jen and Rocky \nBassett May 3  9:00 – 11:30 am   Old City Hall Parking Lot.  Emily \nCRT Amnesty Flyer Valentine
URL:https://visitvalentine.org/event/2357/
ATTACH;FMTTYPE=image/jpeg:https://visitvalentine.org/wp-content/uploads/2021/04/tv.jpg
END:VEVENT
BEGIN:VEVENT
DTSTART;TZID=America/Chicago:20210424T100000
DTEND;TZID=America/Chicago:20210424T170000
DTSTAMP:20260422T210055
CREATED:20210330T164413Z
LAST-MODIFIED:20210330T164413Z
UID:2324-1619258400-1619283600@visitvalentine.org
SUMMARY:Spring Fling Craft Fair and 4-H Luck of the Draw
DESCRIPTION:Local vendors and crafters will be showcasing some one of a kind finds! \n4-H Luck of the Draw- Amazing donations are collected from local businesses every year. \nTake a chance to win some great items for a great cause!
URL:https://visitvalentine.org/event/spring-fling-craft-fair-and-4-h-luck-of-the-draw/
LOCATION:Cherry County Fairgrounds\, 120 S. Green Street\, Valentine\, NE\, 69201\, United States
ATTACH;FMTTYPE=image/jpeg:https://visitvalentine.org/wp-content/uploads/2021/03/4h.jpg
END:VEVENT
BEGIN:VEVENT
DTSTART;VALUE=DATE:20210424
DTEND;VALUE=DATE:20210425
DTSTAMP:20260422T210055
CREATED:20200122T152936Z
LAST-MODIFIED:20210330T164758Z
UID:330-1619222400-1619308799@visitvalentine.org
SUMMARY:1884 Days
DESCRIPTION:January 8th\, 1884: Valentine is Founded.\nThe town was named Valentine after a popular US Senator\, Edward K. Valentine.
URL:https://visitvalentine.org/event/1884-days/
ATTACH;FMTTYPE=image/jpeg:https://visitvalentine.org/wp-content/uploads/2020/01/valentine_ne_0.jpg
END:VEVENT
BEGIN:VEVENT
DTSTART;VALUE=DATE:20210213
DTEND;VALUE=DATE:20210214
DTSTAMP:20260422T210055
CREATED:20201119T201418Z
LAST-MODIFIED:20210209T155349Z
UID:1875-1613174400-1613260799@visitvalentine.org
SUMMARY:CANCELED  :(  - 20th Annual Heart City Bull Bash
DESCRIPTION:This event for 2021 has been canceled due to the weather forcast \nValentine’s “Main” Event\nSaturday\, February 13\, 2021 Downtown Valentine\, NE\nWine Tasting\nGun & Art Shows Commercial Displays\n100+ Bull & Heifer Exhibits\nFun for the whole family\nin the Heart City!\n402-376-5831\nwww.bullbash.net
URL:https://visitvalentine.org/event/20th-annual-heart-city-bull-bash/
ATTACH;FMTTYPE=image/jpeg:https://visitvalentine.org/wp-content/uploads/2020/11/20200208_114354-scaled-e1605818497298.jpg
END:VEVENT
BEGIN:VEVENT
DTSTART;VALUE=DATE:20210206
DTEND;VALUE=DATE:20210208
DTSTAMP:20260422T210055
CREATED:20210122T201359Z
LAST-MODIFIED:20210122T201614Z
UID:1941-1612569600-1612742399@visitvalentine.org
SUMMARY:Heart City Jackpot Shoot
DESCRIPTION:The Sparks Spurs Chapter of Cowboy Fast Draw Association will host the annual Heart City Jackpot on February 6th and 7th at the Cherry County Fairgrounds in Valentine. \nAction will begin at 9am each morning and the public is welcome to watch the contest. Each year about 30 to 40 competitors from Nebraska\, South Dakota and Kansas gather for a friendly gunfight in Valentine. Competitors use real 45 caliber pistols\, shooting wax bullets at targets 21 feet away. \nThe fastest times will win in the 3 out of 5 shot event. One of the most interesting part of the contest\, is the old west clothing worn by many competitors during the event. \nThe Sparks Spurs practice each Thursday evening in Valentine. \nAnyone interested in learning more about cowboy fast draw can contact Mike Burge\, Rich Mercure or Dean Storms.
URL:https://visitvalentine.org/event/heart-city-jackpot-shoot/
ATTACH;FMTTYPE=image/jpeg:https://visitvalentine.org/wp-content/uploads/2020/07/IMG_2136.jpg
END:VEVENT
BEGIN:VEVENT
DTSTART;VALUE=DATE:20200829
DTEND;VALUE=DATE:20200830
DTSTAMP:20260422T210055
CREATED:20200820T205824Z
LAST-MODIFIED:20200820T210351Z
UID:1788-1598659200-1598745599@visitvalentine.org
SUMMARY:
DESCRIPTION:Old Settlers Reunion Rodeo in Sparks Nebraska – Saturday\, August 29th! \nStarts at 9:0 AM – Fun and entertainment for the whole family!
URL:https://visitvalentine.org/event/1788/
ATTACH;FMTTYPE=image/jpeg:https://visitvalentine.org/wp-content/uploads/2020/08/old-settlers-reunion.jpg
END:VEVENT
BEGIN:VEVENT
DTSTART;TZID=America/Chicago:20200703T080000
DTEND;TZID=America/Chicago:20200703T170000
DTSTAMP:20260422T210055
CREATED:20200619T180437Z
LAST-MODIFIED:20200619T180437Z
UID:1639-1593763200-1593795600@visitvalentine.org
SUMMARY:Tractor Pull - (Canceled)
DESCRIPTION:Tractor Pull is canceled \nMOTOR MAYHEM WEEKEND \n5TH ANNUAL HEARTLAND \nSERIES TRACTOR PULL\nJULY 3RD \n CANCELED
URL:https://visitvalentine.org/event/tractor-pull-canceled/
ATTACH;FMTTYPE=image/jpeg:https://visitvalentine.org/wp-content/uploads/2020/03/tractor-pull.jpg
END:VEVENT
BEGIN:VEVENT
DTSTART;TZID=America/Chicago:20200209T170000
DTEND;TZID=America/Chicago:20200209T200000
DTSTAMP:20260422T210055
CREATED:20200122T152850Z
LAST-MODIFIED:20200122T152850Z
UID:326-1581267600-1581278400@visitvalentine.org
SUMMARY:Coronation
DESCRIPTION:
URL:https://visitvalentine.org/event/coronation/
END:VEVENT
END:VCALENDAR