BEGIN:VCALENDAR
VERSION:2.0
PRODID:-//Visit Valentine - ECPv6.15.20//NONSGML v1.0//EN
CALSCALE:GREGORIAN
METHOD:PUBLISH
X-WR-CALNAME:Visit Valentine
X-ORIGINAL-URL:https://visitvalentine.org
X-WR-CALDESC:Events for Visit Valentine
REFRESH-INTERVAL;VALUE=DURATION:PT1H
X-Robots-Tag:noindex
X-PUBLISHED-TTL:PT1H
BEGIN:VTIMEZONE
TZID:America/Chicago
BEGIN:DAYLIGHT
TZOFFSETFROM:-0600
TZOFFSETTO:-0500
TZNAME:CDT
DTSTART:20240310T080000
END:DAYLIGHT
BEGIN:STANDARD
TZOFFSETFROM:-0500
TZOFFSETTO:-0600
TZNAME:CST
DTSTART:20241103T070000
END:STANDARD
BEGIN:DAYLIGHT
TZOFFSETFROM:-0600
TZOFFSETTO:-0500
TZNAME:CDT
DTSTART:20250309T080000
END:DAYLIGHT
BEGIN:STANDARD
TZOFFSETFROM:-0500
TZOFFSETTO:-0600
TZNAME:CST
DTSTART:20251102T070000
END:STANDARD
BEGIN:DAYLIGHT
TZOFFSETFROM:-0600
TZOFFSETTO:-0500
TZNAME:CDT
DTSTART:20260308T080000
END:DAYLIGHT
BEGIN:STANDARD
TZOFFSETFROM:-0500
TZOFFSETTO:-0600
TZNAME:CST
DTSTART:20261101T070000
END:STANDARD
BEGIN:DAYLIGHT
TZOFFSETFROM:-0600
TZOFFSETTO:-0500
TZNAME:CDT
DTSTART:20270314T080000
END:DAYLIGHT
BEGIN:STANDARD
TZOFFSETFROM:-0500
TZOFFSETTO:-0600
TZNAME:CST
DTSTART:20271107T070000
END:STANDARD
END:VTIMEZONE
BEGIN:VEVENT
DTSTART;TZID=America/Chicago:20251011T100000
DTEND;TZID=America/Chicago:20251011T160000
DTSTAMP:20260422T171709
CREATED:20200929T154647Z
LAST-MODIFIED:20250722T202711Z
UID:1826-1760176800-1760198400@visitvalentine.org
SUMMARY:Pumpkin Patch Craft Fair
DESCRIPTION:Saturday Oct 11th! Is the day!!\n\n\nFall is in the air!\nThe Pumpkin Patch Craft Fair is almost here! Come and enjoy this long-awaited event.\nWe have very talented crafters from the area bringing one-of-a-kind crafts!!\n\n\n\n10 a.m. to 4 p.m.\n\n\nWith crafts\, food and fun\, this event is sure to bring plenty of Autumn Joy!!
URL:https://visitvalentine.org/event/1826/
LOCATION:St. Nicholas Catholic Parish Hall\, 400 W. 5th St\, Valentine\, NE\, 69201\, United States
ATTACH;FMTTYPE=image/webp:https://visitvalentine.org/wp-content/uploads/2020/09/5d8f88fe5cb56.webp
END:VEVENT
BEGIN:VEVENT
DTSTART;TZID=America/Chicago:20251030T170000
DTEND;TZID=America/Chicago:20251030T220000
DTSTAMP:20260422T171709
CREATED:20200929T202616Z
LAST-MODIFIED:20250728T193301Z
UID:1836-1761843600-1761861600@visitvalentine.org
SUMMARY:Moonlight Madness
DESCRIPTION:Spooktacular Savings up and down Main Street – Valentine\, NE \nStores will be open Late – 5pm – 10pm
URL:https://visitvalentine.org/event/moonlight-madness/
LOCATION:Valentine\, NE\, Valentine
ATTACH;FMTTYPE=image/jpeg:https://visitvalentine.org/wp-content/uploads/2020/09/moonlight-madness.jpg
END:VEVENT
BEGIN:VEVENT
DTSTART;TZID=America/Chicago:20251031T160000
DTEND;TZID=America/Chicago:20251031T170000
DTSTAMP:20260422T171709
CREATED:20240926T183527Z
LAST-MODIFIED:20250722T202848Z
UID:3994-1761926400-1761930000@visitvalentine.org
SUMMARY:Halloween Kiddie Parade and Scare in the Square!
DESCRIPTION:This is a fun Halloween tradition. \nGet your scare on and meet on Main Street and 1st in Valentine! Oct 31st @ 4:00 \nThank you to all of the businesses that support this fun afternoon for the kiddos! \n 
URL:https://visitvalentine.org/event/halloween-kiddie-parade-and-scare-in-the-square/
LOCATION:Valentine\, NE\, Valentine
ATTACH;FMTTYPE=image/jpeg:https://visitvalentine.org/wp-content/uploads/2024/09/20211029_160038-scaled.jpg
END:VEVENT
BEGIN:VEVENT
DTSTART;TZID=America/Chicago:20251122T180000
DTEND;TZID=America/Chicago:20251123T180000
DTSTAMP:20260422T171709
CREATED:20211109T230717Z
LAST-MODIFIED:20250722T203132Z
UID:2859-1763834400-1763920800@visitvalentine.org
SUMMARY:Valentine Parade of Lights & Heart of Christmas Celebration
DESCRIPTION:Lots to see and do in Valentine when you shop local this Christmas! \n  \nParade of Lights will be down Green Street in Valentine. \nGather at the Fairgrounds 4-H building  after the parade: \n~ Enjoy a smores and a food bar \n~ Visit with Santa Claus \n~ Best Christmas sweater contest \n~ Christmas tree contest \nCheck out their Facebook page for more details!
URL:https://visitvalentine.org/event/valentine-parade-of-lights-heart-of-christmas-celebration/
LOCATION:Cherry County Fairgrounds\, 120 S. Green Street\, Valentine\, NE\, 69201\, United States
ATTACH;FMTTYPE=image/png:https://visitvalentine.org/wp-content/uploads/2021/11/11149402_371137443079015_530379723033015625_n.png
END:VEVENT
BEGIN:VEVENT
DTSTART;TZID=America/Chicago:20251206T090000
DTEND;TZID=America/Chicago:20251206T160000
DTSTAMP:20260422T171709
CREATED:20200820T180323Z
LAST-MODIFIED:20250722T203413Z
UID:1785-1765011600-1765036800@visitvalentine.org
SUMMARY:Winterfest Craft & Gift Show / Bake Sale
DESCRIPTION:Shop Local – Shop Small w/ handcrafted gifts from local crafters \nCross off all of your holiday gifts on your list in one stop \nBake Sale Sponsored by Valentine Chapter P.E.O.
URL:https://visitvalentine.org/event/winterfest-craft-gift-show-bake-sale/
LOCATION:Cherry County Fairgrounds\, 120 S. Green Street\, Valentine\, NE\, 69201\, United States
ATTACH;FMTTYPE=image/jpeg:https://visitvalentine.org/wp-content/uploads/2020/08/winterfest-scaled.jpg
END:VEVENT
BEGIN:VEVENT
DTSTART;TZID=America/Chicago:20260206T183000
DTEND;TZID=America/Chicago:20260206T210000
DTSTAMP:20260422T171709
CREATED:20260128T200028Z
LAST-MODIFIED:20260128T200405Z
UID:4330-1770402600-1770411600@visitvalentine.org
SUMMARY:Galentine's in Valentine @ Broken Spoke Boutique
DESCRIPTION:Broken Spoke Boutique – Valentine \n205 N. Main St. \n6 pm-9pm
URL:https://visitvalentine.org/event/galentines-day-broken-spoke-boutique-in-valentine/
ATTACH;FMTTYPE=image/jpeg:https://visitvalentine.org/wp-content/uploads/2026/01/1000020615.jpg
END:VEVENT
BEGIN:VEVENT
DTSTART;VALUE=DATE:20260214
DTEND;VALUE=DATE:20260215
DTSTAMP:20260422T171709
CREATED:20200122T152740Z
LAST-MODIFIED:20260128T180355Z
UID:324-1771027200-1771113599@visitvalentine.org
SUMMARY:Heart City Bull Bash
DESCRIPTION:25th Annual\nHeart City Bull Bash\nFebruary 14\,2026\nOn Valentine’s Main Street\nBulls – Exhibits – Wine Tasting – Quilt Show \nTrick Roper – 4-H Luck of the Draw – 5K Race \nDummy Roping – In Store Special \n\n\n\n\n\n\n\n\n\n\n\n\n\n\n\n\n\n\n\n\n\n\n\n\n\n\n\n\n\n\n\n\n\n\n\n\n\n\n\n\n\n\n\n\n\n\n\n\n\n\n\n\n\n\n\n\n25th Annual \n\n\nHeart City Bull Bash\n\n\nMain Street\, Valentine\, Nebraska \n\n\nFebruary 14\, 2026 \n\nEXHIBITORS\nSPONSORS\nOTHER EVENTS\n\n\n\n\n\n2026 Bull Exhibitors\n\n\nThese are the bull exhibitors slated to be shown on Main Street. Be sure to attend and check out all of the fine bull power on display. \n​ \n\n\n\n\n\n\n\n\n\n\n\n\n\n\n\n\n\n\n\n\n\n\n\n\n\n\n\n\n\n\n\n\n\n\n\n\n\n\n\n\n\n\n\n\n\n\n\n\n\n\n\n\n\n\n\n\n\n\n\n\n\n\n\n\n\n\n\n\n\n\n\n\n\n\n\n\n\n\n\n\n\n\n\n\n\n\n\n\n\n\n\n\n\n\n\n\n\n\n\n\n\n\n\n\n\n\n\n\n\n\n\n\n\n\n\n\n\n\n\n\n\n\n\n\n\n\n\n\n\n\n\n\n\n\n\n\n\n\n\n\n\n\n\n\n\n\n\n\n\n\n\n\n\n\n\n\n\n\n\n\n\n\n\n\n\n\n\n\n\n\n\n\n\n\n\n\n\n\n\n\n\n\n\n\n\n\n\n\n\n\n\n\n\n\n\n\n\n\n\n\n\n\n\n\n\n\n\n\n\n\n\n\n\n\n\n\n\n\n\n\n\n\n\n\n\n\n\n\n\n\n\n\n\n\n\n\n\n\n\n\n\n\n\n\n\n\n\n\n\n\n\n\n\n\n\n\n\n\n\n\n  \n\n\n\n\n\n\n\n\n\n\n\n\n\n\n\n\n2026 Commercial Exhibitors\n\n\nWe have a variety of equipment dealers\, feed and mineral providers\, and other ranching services ready to talk to you about your needs. \n\n\n\n\n\n\n\n\n\n\n\n\n\n\n\n\n\n\n\n\n\n\n\n\n\n\n\n\n\n\n\n\n\n\n\n\n\n\n\n\n\n\n\n\n\n\n\n\n\n\n\n\n\n\n\n\n\n\n\n\n\n\n\n\n\n\n\n\n\n\n\n\n\n\n\n\n\n\n\n\n\n\n\n\n\n\n\n\n\n\n\n\n\n\n\n\n\n\n\n\n\n\n\n\n\n\n\n\n\n\n\n\n\n\n\n\n\n\n\n\n\n\n\n\n\n\n\n\n\n\n\n\n\n\n\n\n\n\n\n\n\n\n\n\n\n\n\n\n\n\n\n\n\n\n\n\n\n\n\n\n\n\n\n\n\n\n\n\n\n\n\n\n\n\n\n\n\n\n\n\n\n\n\n2026 Heifer Exhibitors\n\n\nThere are no heifers to exhibit on Main Street this year. \n​
URL:https://visitvalentine.org/event/heart-city-bull-bash/
LOCATION:Valentine\, NE\, Valentine
ATTACH;FMTTYPE=image/jpeg:https://visitvalentine.org/wp-content/uploads/2020/02/Capture.jpg
END:VEVENT
BEGIN:VEVENT
DTSTART;TZID=America/Chicago:20260418T100000
DTEND;TZID=America/Chicago:20260418T160000
DTSTAMP:20260422T171709
CREATED:20220311T161111Z
LAST-MODIFIED:20260128T202340Z
UID:2931-1776506400-1776528000@visitvalentine.org
SUMMARY:Spring Fling Craft Fair
DESCRIPTION:Support Local!  Brush away the winter and say “Hello\, Spring!!!” \nLocal vendors and crafters will be showcasing some one of a kind finds! \nSupport local crafters and vendors and see what is new for 2026! \n  \nSpring Fling\nVendor and Craft Show\nApril 18th\, 2026\n10 AM to 4 PM\nSt. Nicholas Perish Hall\nValentine \, NE
URL:https://visitvalentine.org/event/spring-fling-craft-fair/
LOCATION:St. Nicholas Catholic Parish Hall\, 400 W. 5th St\, Valentine\, NE\, 69201\, United States
ATTACH;FMTTYPE=image/jpeg:https://visitvalentine.org/wp-content/uploads/2022/03/dreamstime_xxl_140238852-scaled.jpg
END:VEVENT
BEGIN:VEVENT
DTSTART;VALUE=DATE:20260423
DTEND;VALUE=DATE:20260428
DTSTAMP:20260422T171709
CREATED:20230919T194609Z
LAST-MODIFIED:20260128T200945Z
UID:1652-1776902400-1777334399@visitvalentine.org
SUMMARY:Old West Days & Cowboy Poetry Gathering/1884 Days
DESCRIPTION:Mark your calendar April 23rd -27th \nThe below info is from last year  \n(until we get an updated schedule) \n———————————————————————————————————————————————————————– \nThursday\, April 24th \n7:00 p.m. OLD TIME Melodrama – $5.00  A Golden Fleecing\, or the Undermining of Sarah Sweetflowers Sarsaparilla Saloon and Bridal Shop ….. \nHigh School Auditorium \nFriday\, April 25th \n9 a.m.-4 p.m. FREE POETRY & MUSIC SESSIONS……..Valentine High School \n10 a.m.-7 p.m. WESTERN ART & TRADE SHOW………….Valentine High School \n7:30 p.m. FEATURED PERFORMANCES – $15.00………..High School Auditorium \nPerformers include: a Surprise Guest\, David Paul\, Floyd Beard\, Brooke Turner. Hostess: Lindy Simmons\nSaturday\, April 26th \n9 a.m.-12 p.m. FREE POETRY & MUSIC SESSIONS………Valentine High School \n10 a.m.-7 p.m. WESTERN ART & TRADE SHOW……………Valentine High School \n1:30 p.m. FEATURED PERFORMANCES – $15.00……….. High School Auditorium \nPerformers include: Aspiring Poet/Musician\, Dave Stamey\, Lindy Simmons\, Brooke Turner \n7:30 p.m. FEATURED PERFORMANCES – $15.00………. High School Auditorium \nPerformers include: Surprise Guest\, David Paul\, Floyd Beard\, and Dave Stamey Hostess: Eve Millar. \nSunday\, April 27th \nSPECIAL CHURCH SERVICES AT VARIOUS CHURCHES AROUND TOWN \n3 p.m. OLD TIME Melodrama – $5.00  A Golden Fleecing\, or the Undermining of Sarah Sweetflowers Sarsaparilla Saloon and Bridal Shop …….. \nHigh School Auditorium \nMany events FREE\, unless otherwise noted. \n  \nCall 1-833-693-7638 for more information. \n\n\n\n\n\n\n\n\n  \n\n\n\n\n\n\n 
URL:https://visitvalentine.org/event/old-west-day/
LOCATION:Valentine High School Auditorium
CATEGORIES:poetry
ATTACH;FMTTYPE=image/jpeg:https://visitvalentine.org/wp-content/uploads/2020/06/DAvid-Dorsey.jpg
END:VEVENT
BEGIN:VEVENT
DTSTART;VALUE=DATE:20260523
DTEND;VALUE=DATE:20260524
DTSTAMP:20260422T171709
CREATED:20210330T170741Z
LAST-MODIFIED:20260128T201250Z
UID:2332-1779494400-1779580799@visitvalentine.org
SUMMARY:Circle C Day in Cody\, NE
DESCRIPTION:Mark your Calendar! \nRodeo – Crowning of Little Mr. and Miss Circle C \nFun & Games and prizes! \nCheck out their Facebook Page for more details! \n 
URL:https://visitvalentine.org/event/circle-c-day-in-cody-ne/
LOCATION:Cody Nebraska
ATTACH;FMTTYPE=image/jpeg:https://visitvalentine.org/wp-content/uploads/2021/03/CIRCLE-C-BUCKLE-2-e1617124044460.jpg
END:VEVENT
BEGIN:VEVENT
DTSTART;VALUE=DATE:20260606
DTEND;VALUE=DATE:20260607
DTSTAMP:20260422T171709
CREATED:20200929T150936Z
LAST-MODIFIED:20260128T201528Z
UID:1822-1780704000-1780790399@visitvalentine.org
SUMMARY:Sandhills Marathon
DESCRIPTION:The Sandhills Marathon begins near the west end of the Brownlee Road\, where it meets Highway 97\, between Mullen and Valentine. The Road\, a one-lane blacktop\, winds southeast through the Wamaduze Valley until it reaches the town of Brownlee (unincorporated)\, then runs east along the north bank of the North Loup River. The course finishes on Highway 83\, between Thedford and Valentine.* \nThe Half Marathon will begin at the half-way point about the time the full marathoners are reaching that point. The courses are mainly flat with the road traveling through valleys between rolling Sandhills on either side. There are a few hills\, but only a couple that are substantial.* \nLimited transportation will be provided to and from the course. \n*Course direction for both races subject to reversal depending on weather conditions. \nPlease visit the sign up website for registration information and times. \n 
URL:https://visitvalentine.org/event/sandhills-marathon/
LOCATION:Brownlee Road
ATTACH;FMTTYPE=image/png:https://visitvalentine.org/wp-content/uploads/2020/09/sandhill-marathon-logo.png
END:VEVENT
BEGIN:VEVENT
DTSTART;VALUE=DATE:20260613
DTEND;VALUE=DATE:20260614
DTSTAMP:20260422T171709
CREATED:20240411T093906Z
LAST-MODIFIED:20260128T203041Z
UID:3801-1781308800-1781395199@visitvalentine.org
SUMMARY:Valentine Chamber Golf Tournament
DESCRIPTION:More details when event gets closer\n– Mark Your Calendar –\n\nEnjoy a beautiful and competitive day of golf for one of the Chamber’s biggest fund raisers of the year!\n\n\n\n\nAgenda & Location – Flight #1   (Saturday\, June 13th)\n\n\n\n\n\n9:00 AM   Registration\n\n\n10:00 AM   Playing starts\n\n\n3:00 PM   Awards\n\n\n\n\nFrederick Peak Golf Club\n1000 Dowden St.\nValentine\, NE 69201\n(402) 322-2754
URL:https://visitvalentine.org/event/valentine-chamber-golf-tournament/
LOCATION:Frederick Peak Golf Course\, 1000 Dowden St.\, Valentine\, NE\, 69201
ATTACH;FMTTYPE=image/jpeg:https://visitvalentine.org/wp-content/uploads/2021/11/Golf-Reel.mp4_Moment-2.jpg
END:VEVENT
BEGIN:VEVENT
DTSTART;TZID=America/Chicago:20260704T180000
DTEND;TZID=America/Chicago:20260704T220000
DTSTAMP:20260422T171709
CREATED:20200325T161556Z
LAST-MODIFIED:20260128T210330Z
UID:1144-1783188000-1783202400@visitvalentine.org
SUMMARY:July 4th Demo Derby
DESCRIPTION:DEMO DERBY\nJuly 4th at 6:00 p.m.\nCHECK IN TIME: 1:00-5:00 P.M.\nPIT MEETING: 5:30 P.M.\nCAR/DRIVER ENTRY: $50\nPIT PASS: $20\n\nWWW.WRECKLESSPROMOTIONS.COM\n\n\n\n\n\nFireworks following the derby (TBA)
URL:https://visitvalentine.org/event/5th-annual-truck-tractor-pull-demo-derby/
LOCATION:Cherry County Fairgrounds\, 120 S. Green Street\, Valentine\, NE\, 69201\, United States
ATTACH;FMTTYPE=image/jpeg:https://visitvalentine.org/wp-content/uploads/2020/03/bad129f0b00ea4aff8e1932f6a50715b.jpg
END:VEVENT
BEGIN:VEVENT
DTSTART;TZID=America/Chicago:20260704T210000
DTEND;TZID=America/Chicago:20260704T220000
DTSTAMP:20260422T171709
CREATED:20220606T192018Z
LAST-MODIFIED:20260128T203318Z
UID:3121-1783198800-1783202400@visitvalentine.org
SUMMARY:Saturday - Fireworks @ Dusk (TBA)
DESCRIPTION:Come out to the Demo Derby and Enjoy the Fireworks after @ Dusk! \nFireworks are hopefully going to be on display after the derby (fingers crossed)
URL:https://visitvalentine.org/event/july-4th-fireworks-dusk/
LOCATION:Cherry County Fairgrounds\, 120 S. Green Street\, Valentine\, NE\, 69201\, United States
ATTACH;FMTTYPE=image/jpeg:https://visitvalentine.org/wp-content/uploads/2020/03/dreamstime_s_32352045.jpg
END:VEVENT
BEGIN:VEVENT
DTSTART;VALUE=DATE:20260712
DTEND;VALUE=DATE:20260718
DTSTAMP:20260422T171709
CREATED:20230501T181306Z
LAST-MODIFIED:20260408T172238Z
UID:3524-1783814400-1784332799@visitvalentine.org
SUMMARY:31st Annual Nebraska Star Party
DESCRIPTION:2026\nMark your calendars. NSP will be held July 12-17th 2026 \n\n\n\n\n\n\n\n\n\nOnline registration is now available\nRegister online or request to be added to our mailing list. \n\n\n\n\n\n\n\n\n\nAre you new to astronomy?\nDon’t have a telescope? If you’ve never attended a star party before\, or if you’ve been to other star parties but need more information about what to expect at NSP\, check out our Frequently Asked Questions page. \n\n\n\n\n\n\n\n\n\nPrograms\nOn Wednesday afternoon there will be programs at the Valentine High School. \n\n\n\n\n\n\n\n\n\nVirtual Tour\nCheck out our Virtual 360 Tour of the observing field and campgrounds. \n  \n\n\nDiscover the Wonders of the Night Sky \n\n\n\n\n\n\n\n\nJoin us at the Nebraska Star Party for an unforgettable week of stargazing\, family fun\, and natural beauty at Merritt Reservoir. \n\n\n\n\n\n\n\n\n\nStunning Dark Skies\n\nExperience the breathtaking beauty of the night sky at Merritt Reservoir in the Nebraska Sand hills. Merritt Reservoir State Recreation Area (SRA) is certified as an International Dark Sky Park. \n\n\n\n\nExplore More\n\n\n\n\n\n\nFamily Activities\n\nEnjoy a variety of recreational activities including swimming\, tubing and boating. We also have a beginner field school and astronomy activities for kids. \n\n\n\n\n\n\n\n\n\n\n \n\n\n\n\n\n\n\n\n\nAbout the Nebraska Star Party\n\n\n\n\n\nPlan now to sail off on your own voyage of discovery this summer with us! The astronomical views from Merritt Reservoir’s Snake Campground are fabulous\, and there are plenty of recreational opportunities to keep the entire family entertained all week long at the annual Nebraska Star Party. \nFor newcomers\, NSP is the perfect place to become acquainted with the wonders of the heavens which can’t be seen from cities. Our unique Beginner’s Field School will show you how fun it is to explore the sky here\, as well as in your own back yard when you return home\, with or without a telescope. \nApart from the starry central attraction\, the remote sandhills of north-central Nebraska offer a vacation full of western and natural history as well. Short day trips will take you to historical sites important to the settlement of the west. The spring-fed water and sugar sand beaches of Merritt Reservoir offer swimming\, boating\, and fishing. Valentine national Wildlife Refuge provides a window into the ecology of the prairie\, while the nearby Niobrara River affords a cooling tube float or canoe trip through the surrounding cattle and buffalo ranching country. \nNSP is an annual event\, scheduled to coincide with the new Moon in late July or early August. \n\n\n\n\n\n\n\n\n\n\n\nA Partial List of Sponsors (see Sponsors page for more) \n\n\n\n\n\n\n\n\n\n\n\n\n\n\n\n\n\n\n\n\n\n\n\n\n\n\n\nHighlights\n\n\n\n\n\n\n\n\n\nDark Sky Observing\n\n\n\n\nSkies so dark\, the Milky Way actually casts a shadow! \n\n\nLearn More\n\n\n\n\n\nBeginner’s Field School\n\n\n\n\nOur field school is perfect for newcomers\, offering sessions on how to navigate the night sky with binoculars and telescopes. \n\n\nLearn More\n\n\n\n\n\n\n\nRecreational Activities\n\n\n\n\nFrom swimming and boating to historical tours\, there’s something for everyone at Merritt Reservoir. \n\n\nExplore More\n\n\n\n\n\nWildlife and Nature\n\n\n\n\nDiscover the rich ecology of the prairie at Valentine National Wildlife Refuge and enjoy tubing or canoeing on the Niobrara Rive
URL:https://visitvalentine.org/event/30th-annual-nebraska-star-party/
LOCATION:Merritt Reservoir\, 28 mi. south of Valentine\, Valentine\, NE\, 69201\, United States
ATTACH;FMTTYPE=image/jpeg:https://visitvalentine.org/wp-content/uploads/2023/05/IMG_2935-scaled.jpg
END:VEVENT
BEGIN:VEVENT
DTSTART;VALUE=DATE:20260718
DTEND;VALUE=DATE:20260719
DTSTAMP:20260422T171709
CREATED:20200619T193350Z
LAST-MODIFIED:20260128T202139Z
UID:1647-1784332800-1784419199@visitvalentine.org
SUMMARY:Valentine City Wide Garage Sale
DESCRIPTION:Get your map! Plan your Attack! Get up early! GO!
URL:https://visitvalentine.org/event/city-wide-garage-sale/
LOCATION:Valentine\, NE\, Valentine
ATTACH;FMTTYPE=image/jpeg:https://visitvalentine.org/wp-content/uploads/2020/06/city-wide-garage-sale.jpg
END:VEVENT
BEGIN:VEVENT
DTSTART;VALUE=DATE:20260801
DTEND;VALUE=DATE:20260802
DTSTAMP:20260422T171709
CREATED:20250722T184818Z
LAST-MODIFIED:20260128T202034Z
UID:4206-1785542400-1785628799@visitvalentine.org
SUMMARY:2nd Annual Valentine Marathon
DESCRIPTION:Race Information\n\n\n\n\n\nHome – Valentine Marathon\n\n\n\n\n\n\n\n\nValentine marathon\n\n\n\n\nAUGUST 1\, 2026\nRace\, Celebrate\, and Support Valentine \n\n\nREGISTER\n\n\n\n\n\n\n\n\nJoin us for the 2026 Valentine Marathon benefitting the Valentine Community Schools Foundation!\n\n\n\n\n\n\n\n\n\nLEARN MORE\n\n\n\n\nYour Registration Includes:\n\nSuper-fast\, super-beautiful course with aid stations every 3 miles\nFinish line festival with Sandhills beef and Bolo beer!\nFree professional race photos uploaded to your account\nUnique and awesome swag\, including the belt buckle finisher medal\nProfessional timing and live runner tracking by Precision Timing\nProfessional pacing by the Garmin Pace Team\nA chance to support local kids and a great charity\nDrink tickets\, local discounts\, and more all weekend long\nA reason—as if you need one—to visit beautiful Valentine!\n\n\n\n\n\nThis race is a USA Track & Field and Boston Marathon Qualifying (USATF) (BQ) event. \n\n\n\n\n\n\n\n\nWhether you’re looking for a fast course in a stunningly beautiful place for a BQ\, log your first competitive 5K of the fall\, or be active and give back to the community while doing it\, this is your next favorite race!\n  \nNew!! This year the winner of the Ultra Marathon will win a 22L-Explorer Adventurer Touring Backpack from Viking Bags.\nhttps://www.vikingbags.com/collections/motorcycle-backpacks\n\n\n\n\n\n\n\n\n\n\n\n\n\n\n\n\nA Note from the Race Director\n\n\n\n\nValentine is my hometown. As a four-year cross-country runner\, I can tell you what a beautiful place it is to run\, and as a marathoner\, I’ve gone out of my way to make sure that our race includes all of the things that make a race great. Come to Valentine for the race\, enjoy our scenery\, local stores\, our beef\, and our beer. Then stay to tube down the Niobrara\, check out Fort Niobrara National Wildlife Refuge\, get in eighteen holes\, see Smith Falls and more. There’s so much to do in the Sandhills once you’ve run your race. I hope you’ll spend the weekend. ~ Mark Gudgel \n\n\n\n\n\n\nEMAIL MARK\n\n\n\n\n\n\n 
URL:https://visitvalentine.org/event/1st-annual-valentine-marathon/
ATTACH;FMTTYPE=image/webp:https://visitvalentine.org/wp-content/uploads/2025/07/2025_ValentineMarathon_Buckle_Isolated_V2.webp
END:VEVENT
BEGIN:VEVENT
DTSTART;VALUE=DATE:20260801
DTEND;VALUE=DATE:20260802
DTSTAMP:20260422T171709
CREATED:20200529T153354Z
LAST-MODIFIED:20260130T160834Z
UID:1579-1785542400-1785628799@visitvalentine.org
SUMMARY:Crazy Day in Valentine
DESCRIPTION:Shops downtown have sidewalk sales galore. \nEnjoy a Coffee\, smoothies\, Ice cream\, food. \nClothing. Bookstore. Locally Sourced Products. Antiques\, craft supplies\, Home decor. Furniture. Art. Fabric Store. Western Store. Electronics. Dining. Hardware Store. \nGrab some coffee and stroll downtown for great deals. \n——————————————————————————————– \nStay tuned for a concert announcement \nOrganized by Humdinger Boots on Hall Street \nCome early for the Cornhole Tournament – Great Food and drinks!!!! \n  \n  \n  \n  \n  \n 
URL:https://visitvalentine.org/event/crazy-day-in-valentine/
LOCATION:Valentine\, NE\, Valentine
ATTACH;FMTTYPE=image/jpeg:https://visitvalentine.org/wp-content/uploads/2020/01/street-light-down-town.jpg
END:VEVENT
BEGIN:VEVENT
DTSTART;VALUE=DATE:20260804
DTEND;VALUE=DATE:20260810
DTSTAMP:20260422T171709
CREATED:20200529T155303Z
LAST-MODIFIED:20260130T232033Z
UID:1584-1785801600-1786319999@visitvalentine.org
SUMMARY:Cherry County Fair & Rodeo
DESCRIPTION:Click the URL link for more info: Rodeo Schedules\, Entertainment\, Vendors\, Sponsors and Performances. \n  \nRodeos\, 4-H exhibits\, kids tractor pull\, trade show\, art workshops\, entertainment\, turtle races\, carnival\, \, Fun for the whole family!
URL:https://visitvalentine.org/event/cherry-county-fair-rodeo/
LOCATION:Cherry County Fairgrounds\, 120 S. Green Street\, Valentine\, NE\, 69201\, United States
ATTACH;FMTTYPE=image/jpeg:https://visitvalentine.org/wp-content/uploads/2020/05/cherry-county-fair.jpg
END:VEVENT
END:VCALENDAR